BEGIN:VCALENDAR
VERSION:2.0
PRODID:icalendar-ruby
CALSCALE:GREGORIAN
METHOD:PUBLISH
BEGIN:VEVENT
DTSTAMP:20260424T231205Z
UID:318-2653888@agnusdeilutheran.org
DTSTART:20261004T174500Z
DTEND:20261004T184500Z
CLASS:PUBLIC
CREATED:20260424T151602
DESCRIPTION:\nThe regular sessions of the forum meet Sundays at 11:00\, Sep
 tember through May in our parish hall. A variety of topics are presented:
   theology\, politics\, the arts\, world religions\, contemporary issues\
 , religious history—all with the intention of providing a vigorous\, ric
 h learning environment where the Christian faith is at the center. Please 
 join us at in-person or on Zoom at 11:00\n\nLink to Forum\n\n\nRecordings 
 of previous forums are available on our YouTube channel.\n \n 
LAST-MODIFIED:20260424T151602
LOCATION:ADLC Parish Hall
SUMMARY:Forum
URL;VALUE=URI:https://www.agnusdeilutheran.org/events/forum/2026-10-04
ATTACH;FILENAME=forum3.26.23.holy.weel.jpg;FMTTYPE=image/jpeg:https://dq5pw
 pg1q8ru0.cloudfront.net/2024/01/08/11/51/15/1c1c254f-11e7-4fc4-aeed-55e194
 f0410d/forum3.26.23.holy.weel.jpg
END:VEVENT
END:VCALENDAR
